BEGIN:VCALENDAR
VERSION:2.0
PRODID:-//Committeewoman Anna Evans - ECPv6.15.20//NONSGML v1.0//EN
CALSCALE:GREGORIAN
METHOD:PUBLISH
X-WR-CALNAME:Committeewoman Anna Evans
X-ORIGINAL-URL:https://www.annaevanshainesport.com
X-WR-CALDESC:Events for Committeewoman Anna Evans
REFRESH-INTERVAL;VALUE=DURATION:PT1H
X-Robots-Tag:noindex
X-PUBLISHED-TTL:PT1H
BEGIN:VTIMEZONE
TZID:America/New_York
BEGIN:DAYLIGHT
TZOFFSETFROM:-0500
TZOFFSETTO:-0400
TZNAME:EDT
DTSTART:20250309T070000
END:DAYLIGHT
BEGIN:STANDARD
TZOFFSETFROM:-0400
TZOFFSETTO:-0500
TZNAME:EST
DTSTART:20251102T060000
END:STANDARD
BEGIN:DAYLIGHT
TZOFFSETFROM:-0500
TZOFFSETTO:-0400
TZNAME:EDT
DTSTART:20260308T070000
END:DAYLIGHT
BEGIN:STANDARD
TZOFFSETFROM:-0400
TZOFFSETTO:-0500
TZNAME:EST
DTSTART:20261101T060000
END:STANDARD
BEGIN:DAYLIGHT
TZOFFSETFROM:-0500
TZOFFSETTO:-0400
TZNAME:EDT
DTSTART:20270314T070000
END:DAYLIGHT
BEGIN:STANDARD
TZOFFSETFROM:-0400
TZOFFSETTO:-0500
TZNAME:EST
DTSTART:20271107T060000
END:STANDARD
END:VTIMEZONE
BEGIN:VEVENT
DTSTART;TZID=America/New_York:20260106T063000
DTEND;TZID=America/New_York:20260106T190000
DTSTAMP:20260424T162350
CREATED:20260107T162935Z
LAST-MODIFIED:20260107T162935Z
UID:433-1767681000-1767726000@www.annaevanshainesport.com
SUMMARY:Township Committee Reorganization Meeting
DESCRIPTION:
URL:https://www.annaevanshainesport.com/event/township-committee-reorganization-meeting/
LOCATION:Hainesport Township Municipal Complex\, 1401 Marne Highway\, Hainesport\, NJ\, 08036\, United States
ORGANIZER;CN="Hainesport Township":MAILTO:aevans@hainesporttownship.com
END:VEVENT
BEGIN:VEVENT
DTSTART;TZID=America/New_York:20260106T190000
DTEND;TZID=America/New_York:20260106T203000
DTSTAMP:20260424T162350
CREATED:20260107T163057Z
LAST-MODIFIED:20260107T163057Z
UID:435-1767726000-1767731400@www.annaevanshainesport.com
SUMMARY:Township Committee Meeting
DESCRIPTION:
URL:https://www.annaevanshainesport.com/event/township-committee-meeting/
LOCATION:Hainesport Township Municipal Complex\, 1401 Marne Highway\, Hainesport\, NJ\, 08036\, United States
ORGANIZER;CN="Hainesport Township":MAILTO:aevans@hainesporttownship.com
END:VEVENT
BEGIN:VEVENT
DTSTART;TZID=America/New_York:20260107T183000
DTEND;TZID=America/New_York:20260107T210000
DTSTAMP:20260424T162350
CREATED:20260107T163149Z
LAST-MODIFIED:20260107T163149Z
UID:437-1767810600-1767819600@www.annaevanshainesport.com
SUMMARY:JLUB Reorganization & Regular Meeting
DESCRIPTION:
URL:https://www.annaevanshainesport.com/event/jlub-reorganization-regular-meeting/
LOCATION:Hainesport Township Municipal Complex\, 1401 Marne Highway\, Hainesport\, NJ\, 08036\, United States
ORGANIZER;CN="Hainesport Township":MAILTO:aevans@hainesporttownship.com
END:VEVENT
BEGIN:VEVENT
DTSTART;TZID=America/New_York:20260114T110000
DTEND;TZID=America/New_York:20260114T123000
DTSTAMP:20260424T162350
CREATED:20260107T163428Z
LAST-MODIFIED:20260107T163428Z
UID:439-1768388400-1768393800@www.annaevanshainesport.com
SUMMARY:Veterans Meet & Greet Luncheon
DESCRIPTION:
URL:https://www.annaevanshainesport.com/event/veterans-meet-greet-luncheon/
LOCATION:Kenneth E. Street Center\, 100 Broad St\, Hainesport\, NJ\, 08036\, United States
ATTACH;FMTTYPE=image/jpeg:https://www.annaevanshainesport.com/wp-content/uploads/2026/01/Veterans-Lunch-flyer.jpg
END:VEVENT
BEGIN:VEVENT
DTSTART;TZID=America/New_York:20260123T110000
DTEND;TZID=America/New_York:20260123T123000
DTSTAMP:20260424T162350
CREATED:20260107T163830Z
LAST-MODIFIED:20260109T213047Z
UID:442-1769166000-1769171400@www.annaevanshainesport.com
SUMMARY:Mayors Wellness Senior Connection
DESCRIPTION:
URL:https://www.annaevanshainesport.com/event/mayors-wellness-senior-connection/
LOCATION:Kenneth E. Street Center\, 100 Broad St\, Hainesport\, NJ\, 08036\, United States
ATTACH;FMTTYPE=image/jpeg:https://www.annaevanshainesport.com/wp-content/uploads/2026/01/Senior-Connection.jpg
END:VEVENT
BEGIN:VEVENT
DTSTART;TZID=America/New_York:20260127T193000
DTEND;TZID=America/New_York:20260127T203000
DTSTAMP:20260424T162350
CREATED:20260107T163951Z
LAST-MODIFIED:20260107T163951Z
UID:444-1769542200-1769545800@www.annaevanshainesport.com
SUMMARY:Township Committee Meeting
DESCRIPTION:
URL:https://www.annaevanshainesport.com/event/township-committee-meeting-2/
LOCATION:Hainesport Township Municipal Complex\, 1401 Marne Highway\, Hainesport\, NJ\, 08036\, United States
ORGANIZER;CN="Hainesport Township":MAILTO:aevans@hainesporttownship.com
END:VEVENT
END:VCALENDAR