BEGIN:VCALENDAR
VERSION:2.0
PRODID:-//Committeewoman Anna Evans - ECPv6.15.20//NONSGML v1.0//EN
CALSCALE:GREGORIAN
METHOD:PUBLISH
X-WR-CALNAME:Committeewoman Anna Evans
X-ORIGINAL-URL:https://www.annaevanshainesport.com
X-WR-CALDESC:Events for Committeewoman Anna Evans
REFRESH-INTERVAL;VALUE=DURATION:PT1H
X-Robots-Tag:noindex
X-PUBLISHED-TTL:PT1H
BEGIN:VTIMEZONE
TZID:America/New_York
BEGIN:DAYLIGHT
TZOFFSETFROM:-0500
TZOFFSETTO:-0400
TZNAME:EDT
DTSTART:20240310T070000
END:DAYLIGHT
BEGIN:STANDARD
TZOFFSETFROM:-0400
TZOFFSETTO:-0500
TZNAME:EST
DTSTART:20241103T060000
END:STANDARD
BEGIN:DAYLIGHT
TZOFFSETFROM:-0500
TZOFFSETTO:-0400
TZNAME:EDT
DTSTART:20250309T070000
END:DAYLIGHT
BEGIN:STANDARD
TZOFFSETFROM:-0400
TZOFFSETTO:-0500
TZNAME:EST
DTSTART:20251102T060000
END:STANDARD
BEGIN:DAYLIGHT
TZOFFSETFROM:-0500
TZOFFSETTO:-0400
TZNAME:EDT
DTSTART:20260308T070000
END:DAYLIGHT
BEGIN:STANDARD
TZOFFSETFROM:-0400
TZOFFSETTO:-0500
TZNAME:EST
DTSTART:20261101T060000
END:STANDARD
END:VTIMEZONE
BEGIN:VEVENT
DTSTART;TZID=America/New_York:20251203T183000
DTEND;TZID=America/New_York:20251203T203000
DTSTAMP:20260424T181133
CREATED:20250514T214609Z
LAST-MODIFIED:20250514T214609Z
UID:314-1764786600-1764793800@www.annaevanshainesport.com
SUMMARY:Joint Land Use Meeting
DESCRIPTION:
URL:https://www.annaevanshainesport.com/event/joint-land-use-meeting-7/
LOCATION:Hainesport Township Municipal Complex\, 1401 Marne Highway\, Hainesport\, NJ\, 08036\, United States
ORGANIZER;CN="Hainesport Township":MAILTO:aevans@hainesporttownship.com
END:VEVENT
BEGIN:VEVENT
DTSTART;TZID=America/New_York:20251205T173000
DTEND;TZID=America/New_York:20251205T190000
DTSTAMP:20260424T181133
CREATED:20250514T214659Z
LAST-MODIFIED:20251203T162352Z
UID:316-1764955800-1764961200@www.annaevanshainesport.com
SUMMARY:Township Tree Lighting Event
DESCRIPTION:
URL:https://www.annaevanshainesport.com/event/township-tree-lighting-event/
LOCATION:Hainesport Township Municipal Complex\, 1401 Marne Highway\, Hainesport\, NJ\, 08036\, United States
ATTACH;FMTTYPE=image/jpeg:https://www.annaevanshainesport.com/wp-content/uploads/2025/05/Holiday-Events.jpg
ORGANIZER;CN="Hainesport Township":MAILTO:aevans@hainesporttownship.com
END:VEVENT
BEGIN:VEVENT
DTSTART;TZID=America/New_York:20251209T183000
DTEND;TZID=America/New_York:20251209T200000
DTSTAMP:20260424T181133
CREATED:20250514T214739Z
LAST-MODIFIED:20250514T214739Z
UID:318-1765305000-1765310400@www.annaevanshainesport.com
SUMMARY:Township Meeting
DESCRIPTION:
URL:https://www.annaevanshainesport.com/event/township-meeting-8/
LOCATION:Hainesport Township Municipal Complex\, 1401 Marne Highway\, Hainesport\, NJ\, 08036\, United States
ORGANIZER;CN="Hainesport Township":MAILTO:aevans@hainesporttownship.com
END:VEVENT
BEGIN:VEVENT
DTSTART;TZID=America/New_York:20251211T120000
DTEND;TZID=America/New_York:20251211T140000
DTSTAMP:20260424T181133
CREATED:20250514T215223Z
LAST-MODIFIED:20250514T215223Z
UID:322-1765454400-1765461600@www.annaevanshainesport.com
SUMMARY:Senior Citizens Club Meeting
DESCRIPTION:
URL:https://www.annaevanshainesport.com/event/senior-citizens-club-meeting-13/
LOCATION:Kenneth E. Street Center\, 100 Broad St\, Hainesport\, NJ\, 08036\, United States
ORGANIZER;CN="Hainesport Township":MAILTO:aevans@hainesporttownship.com
END:VEVENT
BEGIN:VEVENT
DTSTART;TZID=America/New_York:20251211T173000
DTEND;TZID=America/New_York:20251211T190000
DTSTAMP:20260424T181133
CREATED:20250514T215019Z
LAST-MODIFIED:20251203T164810Z
UID:320-1765474200-1765479600@www.annaevanshainesport.com
SUMMARY:Caroling Event
DESCRIPTION:
URL:https://www.annaevanshainesport.com/event/caroling-event/
LOCATION:Kenneth E. Street Center\, 100 Broad St\, Hainesport\, NJ\, 08036\, United States
ATTACH;FMTTYPE=image/jpeg:https://www.annaevanshainesport.com/wp-content/uploads/2025/05/Holiday-Events.jpg
ORGANIZER;CN="Hainesport Township":MAILTO:aevans@hainesporttownship.com
END:VEVENT
BEGIN:VEVENT
DTSTART;TZID=America/New_York:20251213T120000
DTEND;TZID=America/New_York:20251213T150000
DTSTAMP:20260424T181133
CREATED:20250514T215308Z
LAST-MODIFIED:20251203T164921Z
UID:324-1765627200-1765638000@www.annaevanshainesport.com
SUMMARY:Holiday Event
DESCRIPTION:
URL:https://www.annaevanshainesport.com/event/gingerbread-contest/
LOCATION:Kenneth E. Street Center\, 100 Broad St\, Hainesport\, NJ\, 08036\, United States
ATTACH;FMTTYPE=image/jpeg:https://www.annaevanshainesport.com/wp-content/uploads/2025/05/Holiday-Events.jpg
ORGANIZER;CN="Hainesport Township":MAILTO:aevans@hainesporttownship.com
END:VEVENT
BEGIN:VEVENT
DTSTART;TZID=America/New_York:20251216T180000
DTEND;TZID=America/New_York:20251216T190000
DTSTAMP:20260424T181133
CREATED:20251203T165058Z
LAST-MODIFIED:20251203T165058Z
UID:430-1765908000-1765911600@www.annaevanshainesport.com
SUMMARY:Menorah Lighting
DESCRIPTION:
URL:https://www.annaevanshainesport.com/event/menorah-lighting/
LOCATION:Hainesport Township Municipal Complex\, 1401 Marne Highway\, Hainesport\, NJ\, 08036\, United States
ATTACH;FMTTYPE=image/jpeg:https://www.annaevanshainesport.com/wp-content/uploads/2025/05/Holiday-Events.jpg
ORGANIZER;CN="Hainesport Township":MAILTO:aevans@hainesporttownship.com
END:VEVENT
BEGIN:VEVENT
DTSTART;VALUE=DATE:20251219
DTEND;VALUE=DATE:20251220
DTSTAMP:20260424T181133
CREATED:20250514T215402Z
LAST-MODIFIED:20250514T215402Z
UID:326-1766102400-1766188799@www.annaevanshainesport.com
SUMMARY:Holiday House Decorating Contest
DESCRIPTION:
URL:https://www.annaevanshainesport.com/event/holiday-house-decorating-contest/
LOCATION:NJ
END:VEVENT
END:VCALENDAR