BEGIN:VCALENDAR
VERSION:2.0
PRODID:-//Committeewoman Anna Evans - ECPv6.15.20//NONSGML v1.0//EN
CALSCALE:GREGORIAN
METHOD:PUBLISH
X-WR-CALNAME:Committeewoman Anna Evans
X-ORIGINAL-URL:https://www.annaevanshainesport.com
X-WR-CALDESC:Events for Committeewoman Anna Evans
REFRESH-INTERVAL;VALUE=DURATION:PT1H
X-Robots-Tag:noindex
X-PUBLISHED-TTL:PT1H
BEGIN:VTIMEZONE
TZID:America/Halifax
BEGIN:DAYLIGHT
TZOFFSETFROM:-0400
TZOFFSETTO:-0300
TZNAME:ADT
DTSTART:20240310T060000
END:DAYLIGHT
BEGIN:STANDARD
TZOFFSETFROM:-0300
TZOFFSETTO:-0400
TZNAME:AST
DTSTART:20241103T050000
END:STANDARD
BEGIN:DAYLIGHT
TZOFFSETFROM:-0400
TZOFFSETTO:-0300
TZNAME:ADT
DTSTART:20250309T060000
END:DAYLIGHT
BEGIN:STANDARD
TZOFFSETFROM:-0300
TZOFFSETTO:-0400
TZNAME:AST
DTSTART:20251102T050000
END:STANDARD
BEGIN:DAYLIGHT
TZOFFSETFROM:-0400
TZOFFSETTO:-0300
TZNAME:ADT
DTSTART:20260308T060000
END:DAYLIGHT
BEGIN:STANDARD
TZOFFSETFROM:-0300
TZOFFSETTO:-0400
TZNAME:AST
DTSTART:20261101T050000
END:STANDARD
END:VTIMEZONE
BEGIN:VEVENT
DTSTART;TZID=America/Halifax:20250526T090000
DTEND;TZID=America/Halifax:20250526T100000
DTSTAMP:20260425T101907
CREATED:20250514T163323Z
LAST-MODIFIED:20250515T015701Z
UID:184-1748250000-1748253600@www.annaevanshainesport.com
SUMMARY:Hainesport Township Memorial Day Event
DESCRIPTION:The Hainesport Township Committee and Hainesport Township Recreation Committee cordially invite our residents\, organizations\, and businesses to participate in our Memorial Day Celebration Event. \nA wonderful program is planned to commemorate those who have served our country and are now deceased. We look forward to seeing everyone.
URL:https://www.annaevanshainesport.com/event/hainesport-township-memorial-day-event/
LOCATION:Hainesport Township Municipal Complex\, 1401 Marne Highway\, Hainesport\, NJ\, 08036\, United States
ATTACH;FMTTYPE=image/jpeg:https://www.annaevanshainesport.com/wp-content/uploads/2025/05/IMG_6585-1.jpg
ORGANIZER;CN="Hainesport Township":MAILTO:aevans@hainesporttownship.com
END:VEVENT
BEGIN:VEVENT
DTSTART;TZID=America/Halifax:20250522T120000
DTEND;TZID=America/Halifax:20250522T140000
DTSTAMP:20260425T101907
CREATED:20250514T173717Z
LAST-MODIFIED:20250514T173717Z
UID:198-1747915200-1747922400@www.annaevanshainesport.com
SUMMARY:Senior Citizens Club Meeting
DESCRIPTION:
URL:https://www.annaevanshainesport.com/event/senior-citizens-club-meeting/
LOCATION:Kenneth E. Street Center\, 100 Broad St\, Hainesport\, NJ\, 08036\, United States
END:VEVENT
BEGIN:VEVENT
DTSTART;TZID=America/Halifax:20250521T130000
DTEND;TZID=America/Halifax:20250521T150000
DTSTAMP:20260425T101907
CREATED:20250514T174808Z
LAST-MODIFIED:20250515T015442Z
UID:204-1747832400-1747839600@www.annaevanshainesport.com
SUMMARY:Medication Safety Precaution
DESCRIPTION:Presented by Pastor Joan Mitchell\, RN\, and Yolanda Lawrence\, RN
URL:https://www.annaevanshainesport.com/event/medication-safety-precaution/
LOCATION:Kenneth E. Street Center\, 100 Broad St\, Hainesport\, NJ\, 08036\, United States
ATTACH;FMTTYPE=image/jpeg:https://www.annaevanshainesport.com/wp-content/uploads/2025/05/IMG_6584.jpg
END:VEVENT
BEGIN:VEVENT
DTSTART;TZID=America/Halifax:20250513T183000
DTEND;TZID=America/Halifax:20250513T200000
DTSTAMP:20260425T101907
CREATED:20250514T185621Z
LAST-MODIFIED:20250514T185621Z
UID:212-1747161000-1747166400@www.annaevanshainesport.com
SUMMARY:Township Meeting
DESCRIPTION:
URL:https://www.annaevanshainesport.com/event/township-meeting/
LOCATION:Hainesport Township Municipal Complex\, 1401 Marne Highway\, Hainesport\, NJ\, 08036\, United States
ORGANIZER;CN="Hainesport Township":MAILTO:aevans@hainesporttownship.com
END:VEVENT
END:VCALENDAR