BEGIN:VCALENDAR
VERSION:2.0
PRODID:-//Committeewoman Anna Evans - ECPv6.15.20//NONSGML v1.0//EN
CALSCALE:GREGORIAN
METHOD:PUBLISH
X-WR-CALNAME:Committeewoman Anna Evans
X-ORIGINAL-URL:https://www.annaevanshainesport.com
X-WR-CALDESC:Events for Committeewoman Anna Evans
REFRESH-INTERVAL;VALUE=DURATION:PT1H
X-Robots-Tag:noindex
X-PUBLISHED-TTL:PT1H
BEGIN:VTIMEZONE
TZID:America/New_York
BEGIN:DAYLIGHT
TZOFFSETFROM:-0500
TZOFFSETTO:-0400
TZNAME:EDT
DTSTART:20240310T070000
END:DAYLIGHT
BEGIN:STANDARD
TZOFFSETFROM:-0400
TZOFFSETTO:-0500
TZNAME:EST
DTSTART:20241103T060000
END:STANDARD
BEGIN:DAYLIGHT
TZOFFSETFROM:-0500
TZOFFSETTO:-0400
TZNAME:EDT
DTSTART:20250309T070000
END:DAYLIGHT
BEGIN:STANDARD
TZOFFSETFROM:-0400
TZOFFSETTO:-0500
TZNAME:EST
DTSTART:20251102T060000
END:STANDARD
BEGIN:DAYLIGHT
TZOFFSETFROM:-0500
TZOFFSETTO:-0400
TZNAME:EDT
DTSTART:20260308T070000
END:DAYLIGHT
BEGIN:STANDARD
TZOFFSETFROM:-0400
TZOFFSETTO:-0500
TZNAME:EST
DTSTART:20261101T060000
END:STANDARD
END:VTIMEZONE
BEGIN:VTIMEZONE
TZID:America/Halifax
BEGIN:DAYLIGHT
TZOFFSETFROM:-0400
TZOFFSETTO:-0300
TZNAME:ADT
DTSTART:20240310T060000
END:DAYLIGHT
BEGIN:STANDARD
TZOFFSETFROM:-0300
TZOFFSETTO:-0400
TZNAME:AST
DTSTART:20241103T050000
END:STANDARD
BEGIN:DAYLIGHT
TZOFFSETFROM:-0400
TZOFFSETTO:-0300
TZNAME:ADT
DTSTART:20250309T060000
END:DAYLIGHT
BEGIN:STANDARD
TZOFFSETFROM:-0300
TZOFFSETTO:-0400
TZNAME:AST
DTSTART:20251102T050000
END:STANDARD
BEGIN:DAYLIGHT
TZOFFSETFROM:-0400
TZOFFSETTO:-0300
TZNAME:ADT
DTSTART:20260308T060000
END:DAYLIGHT
BEGIN:STANDARD
TZOFFSETFROM:-0300
TZOFFSETTO:-0400
TZNAME:AST
DTSTART:20261101T050000
END:STANDARD
END:VTIMEZONE
BEGIN:VTIMEZONE
TZID:UTC
BEGIN:STANDARD
TZOFFSETFROM:+0000
TZOFFSETTO:+0000
TZNAME:UTC
DTSTART:20240101T000000
END:STANDARD
END:VTIMEZONE
BEGIN:VEVENT
DTSTART;VALUE=DATE:20251004
DTEND;VALUE=DATE:20251005
DTSTAMP:20260425T120507
CREATED:20250923T190530Z
LAST-MODIFIED:20250923T190530Z
UID:397-1759536000-1759622399@www.annaevanshainesport.com
SUMMARY:"Color Your Fall" Free Kayaking
DESCRIPTION:
URL:https://www.annaevanshainesport.com/event/color-your-fall-free-kayaking/
LOCATION:Hainesport Boat Ramp\, Walnut Ave\, Walnut Ave\, Hainesport\, NJ\, 08036\, United States
ATTACH;FMTTYPE=image/jpeg:https://www.annaevanshainesport.com/wp-content/uploads/2025/09/kayaking_fall.jpg
END:VEVENT
BEGIN:VEVENT
DTSTART;TZID=America/New_York:20251003T113000
DTEND;TZID=America/New_York:20251003T123000
DTSTAMP:20260425T120507
CREATED:20250916T193105Z
LAST-MODIFIED:20250916T193105Z
UID:381-1759491000-1759494600@www.annaevanshainesport.com
SUMMARY:Yoga
DESCRIPTION:Fridays from September 5th to October 10th \nSupply your own mat and “grippy” socks. \nSigned waiver due at time of payment (CASH or CHECK). $60 for 6 classes. \n  \n 
URL:https://www.annaevanshainesport.com/event/yoga-2-2-2-2-2-2-5/
LOCATION:Kenneth E. Street Center\, 100 Broad St\, Hainesport\, NJ\, 08036\, United States
ATTACH;FMTTYPE=image/jpeg:https://www.annaevanshainesport.com/wp-content/uploads/2025/09/Fall-Yoga.jpg
ORGANIZER;CN="Hainesport Township":MAILTO:aevans@hainesporttownship.com
END:VEVENT
BEGIN:VEVENT
DTSTART;TZID=America/New_York:20251001T183000
DTEND;TZID=America/New_York:20251001T203000
DTSTAMP:20260425T120507
CREATED:20250514T212117Z
LAST-MODIFIED:20250514T212117Z
UID:284-1759343400-1759350600@www.annaevanshainesport.com
SUMMARY:Joint Land Use Meeting
DESCRIPTION:
URL:https://www.annaevanshainesport.com/event/joint-land-use-meeting-5/
LOCATION:Hainesport Township Municipal Complex\, 1401 Marne Highway\, Hainesport\, NJ\, 08036\, United States
ORGANIZER;CN="Hainesport Township":MAILTO:aevans@hainesporttownship.com
END:VEVENT
BEGIN:VEVENT
DTSTART;TZID=America/New_York:20250930T183000
DTEND;TZID=America/New_York:20250930T200000
DTSTAMP:20260425T120507
CREATED:20250916T190955Z
LAST-MODIFIED:20250916T190955Z
UID:359-1759257000-1759262400@www.annaevanshainesport.com
SUMMARY:10 Things You Might Not Know About Rancocas Creek
DESCRIPTION:
URL:https://www.annaevanshainesport.com/event/10-things-you-might-not-know-about-rancocas-creek/
LOCATION:Kenneth E. Street Center\, 100 Broad St\, Hainesport\, NJ\, 08036\, United States
ATTACH;FMTTYPE=image/jpeg:https://www.annaevanshainesport.com/wp-content/uploads/2025/09/Creek-Talk.jpg
ORGANIZER;CN="Hainesport Township":MAILTO:aevans@hainesporttownship.com
END:VEVENT
BEGIN:VEVENT
DTSTART;TZID=America/New_York:20250926T113000
DTEND;TZID=America/New_York:20250926T123000
DTSTAMP:20260425T120507
CREATED:20250916T192948Z
LAST-MODIFIED:20250916T192948Z
UID:380-1758886200-1758889800@www.annaevanshainesport.com
SUMMARY:Yoga
DESCRIPTION:Fridays from September 5th to October 10th \nSupply your own mat and “grippy” socks. \nSigned waiver due at time of payment (CASH or CHECK). $60 for 6 classes. \n  \n 
URL:https://www.annaevanshainesport.com/event/yoga-2-2-2-2-2-2-4/
LOCATION:Kenneth E. Street Center\, 100 Broad St\, Hainesport\, NJ\, 08036\, United States
ATTACH;FMTTYPE=image/jpeg:https://www.annaevanshainesport.com/wp-content/uploads/2025/09/Fall-Yoga.jpg
ORGANIZER;CN="Hainesport Township":MAILTO:aevans@hainesporttownship.com
END:VEVENT
BEGIN:VEVENT
DTSTART;TZID=America/New_York:20250926T110000
DTEND;TZID=America/New_York:20250926T120000
DTSTAMP:20260425T120507
CREATED:20250916T194339Z
LAST-MODIFIED:20250916T194339Z
UID:393-1758884400-1758888000@www.annaevanshainesport.com
SUMMARY:Mommy & Me Tennis Begins
DESCRIPTION:
URL:https://www.annaevanshainesport.com/event/mommy-me-tennis-begins/
LOCATION:Hainesport Township Municipal Complex\, 1401 Marne Highway\, Hainesport\, NJ\, 08036\, United States
ATTACH;FMTTYPE=image/jpeg:https://www.annaevanshainesport.com/wp-content/uploads/2025/09/Fall-Tennis.jpg
ORGANIZER;CN="Hainesport Township":MAILTO:aevans@hainesporttownship.com
END:VEVENT
BEGIN:VEVENT
DTSTART;TZID=America/New_York:20250925T120000
DTEND;TZID=America/New_York:20250925T140000
DTSTAMP:20260425T120507
CREATED:20250514T212030Z
LAST-MODIFIED:20250514T212030Z
UID:282-1758801600-1758808800@www.annaevanshainesport.com
SUMMARY:Senior Citizens Club Meeting
DESCRIPTION:
URL:https://www.annaevanshainesport.com/event/senior-citizens-club-meeting-9/
LOCATION:Kenneth E. Street Center\, 100 Broad St\, Hainesport\, NJ\, 08036\, United States
ORGANIZER;CN="Hainesport Township":MAILTO:aevans@hainesporttownship.com
END:VEVENT
BEGIN:VEVENT
DTSTART;TZID=America/New_York:20250920T120000
DTEND;TZID=America/New_York:20250920T160000
DTSTAMP:20260425T120507
CREATED:20250514T211953Z
LAST-MODIFIED:20250916T190352Z
UID:280-1758369600-1758384000@www.annaevanshainesport.com
SUMMARY:Fall/Food Truck Festival
DESCRIPTION:Click here for the “Make Your Own Scarecrow” entry form. \nClick here for the “Pet Parade” entry form. \n 
URL:https://www.annaevanshainesport.com/event/fall-food-truck-festival/
LOCATION:Hainesport Township Municipal Complex\, 1401 Marne Highway\, Hainesport\, NJ\, 08036\, United States
ATTACH;FMTTYPE=image/jpeg:https://www.annaevanshainesport.com/wp-content/uploads/2025/05/Fall-Fest.jpg
ORGANIZER;CN="Hainesport Township":MAILTO:aevans@hainesporttownship.com
END:VEVENT
BEGIN:VEVENT
DTSTART;TZID=America/New_York:20250919T113000
DTEND;TZID=America/New_York:20250919T123000
DTSTAMP:20260425T120507
CREATED:20250916T192817Z
LAST-MODIFIED:20250916T192817Z
UID:379-1758281400-1758285000@www.annaevanshainesport.com
SUMMARY:Yoga
DESCRIPTION:Fridays from September 5th to October 10th \nSupply your own mat and “grippy” socks. \nSigned waiver due at time of payment (CASH or CHECK). $60 for 6 classes. \n  \n 
URL:https://www.annaevanshainesport.com/event/yoga-2-2-2-2-2-2-3/
LOCATION:Kenneth E. Street Center\, 100 Broad St\, Hainesport\, NJ\, 08036\, United States
ATTACH;FMTTYPE=image/jpeg:https://www.annaevanshainesport.com/wp-content/uploads/2025/09/Fall-Yoga.jpg
ORGANIZER;CN="Hainesport Township":MAILTO:aevans@hainesporttownship.com
END:VEVENT
BEGIN:VEVENT
DTSTART;TZID=America/New_York:20250912T113000
DTEND;TZID=America/New_York:20250912T123000
DTSTAMP:20260425T120507
CREATED:20250916T192635Z
LAST-MODIFIED:20250916T192635Z
UID:378-1757676600-1757680200@www.annaevanshainesport.com
SUMMARY:Yoga
DESCRIPTION:Fridays from September 5th to October 10th \nSupply your own mat and “grippy” socks. \nSigned waiver due at time of payment (CASH or CHECK). $60 for 6 classes. \n  \n 
URL:https://www.annaevanshainesport.com/event/yoga-2-2-2-2-2-2-2/
LOCATION:NJ
ATTACH;FMTTYPE=image/jpeg:https://www.annaevanshainesport.com/wp-content/uploads/2025/09/Fall-Yoga.jpg
END:VEVENT
BEGIN:VEVENT
DTSTART;TZID=America/New_York:20250911T120000
DTEND;TZID=America/New_York:20250911T140000
DTSTAMP:20260425T120507
CREATED:20250514T211913Z
LAST-MODIFIED:20250514T211913Z
UID:278-1757592000-1757599200@www.annaevanshainesport.com
SUMMARY:Senior Citizens Club Meeting
DESCRIPTION:
URL:https://www.annaevanshainesport.com/event/senior-citizens-club-meeting-8/
LOCATION:Kenneth E. Street Center\, 100 Broad St\, Hainesport\, NJ\, 08036\, United States
ORGANIZER;CN="Hainesport Township":MAILTO:aevans@hainesporttownship.com
END:VEVENT
BEGIN:VEVENT
DTSTART;TZID=America/New_York:20250909T183000
DTEND;TZID=America/New_York:20250909T200000
DTSTAMP:20260425T120507
CREATED:20250514T211829Z
LAST-MODIFIED:20250514T211829Z
UID:276-1757442600-1757448000@www.annaevanshainesport.com
SUMMARY:Township Meeting
DESCRIPTION:
URL:https://www.annaevanshainesport.com/event/township-meeting-5/
LOCATION:Hainesport Township Municipal Complex\, 1401 Marne Highway\, Hainesport\, NJ\, 08036\, United States
ORGANIZER;CN="Hainesport Township":MAILTO:aevans@hainesporttownship.com
END:VEVENT
BEGIN:VEVENT
DTSTART;TZID=America/New_York:20250905T113000
DTEND;TZID=America/New_York:20250905T123000
DTSTAMP:20260425T120507
CREATED:20250916T192341Z
LAST-MODIFIED:20250916T192341Z
UID:365-1757071800-1757075400@www.annaevanshainesport.com
SUMMARY:Yoga
DESCRIPTION:Fridays from September 5th to October 10th \nSupply your own mat and “grippy” socks. \nSigned waiver due at time of payment (CASH or CHECK). $60 for 6 classes. \n  \n 
URL:https://www.annaevanshainesport.com/event/yoga-2-2-2-2-2-2/
LOCATION:Kenneth E. Street Center\, 100 Broad St\, Hainesport\, NJ\, 08036\, United States
ATTACH;FMTTYPE=image/jpeg:https://www.annaevanshainesport.com/wp-content/uploads/2025/09/Fall-Yoga.jpg
ORGANIZER;CN="Hainesport Township":MAILTO:aevans@hainesporttownship.com
END:VEVENT
BEGIN:VEVENT
DTSTART;TZID=America/New_York:20250903T183000
DTEND;TZID=America/New_York:20250903T203000
DTSTAMP:20260425T120507
CREATED:20250514T211754Z
LAST-MODIFIED:20250514T211754Z
UID:274-1756924200-1756931400@www.annaevanshainesport.com
SUMMARY:Joint Land Use Meeting
DESCRIPTION:
URL:https://www.annaevanshainesport.com/event/joint-land-use-meeting-4/
LOCATION:Hainesport Township Municipal Complex\, 1401 Marne Highway\, Hainesport\, NJ\, 08036\, United States
ORGANIZER;CN="Hainesport Township":MAILTO:aevans@hainesporttownship.com
END:VEVENT
BEGIN:VEVENT
DTSTART;TZID=America/New_York:20250828T120000
DTEND;TZID=America/New_York:20250828T140000
DTSTAMP:20260425T120507
CREATED:20250514T211636Z
LAST-MODIFIED:20250514T211636Z
UID:272-1756382400-1756389600@www.annaevanshainesport.com
SUMMARY:Senior Citizens Club Meeting
DESCRIPTION:
URL:https://www.annaevanshainesport.com/event/senior-citizens-club-meeting-7/
LOCATION:Kenneth E. Street Center\, 100 Broad St\, Hainesport\, NJ\, 08036\, United States
ORGANIZER;CN="Hainesport Township":MAILTO:aevans@hainesporttownship.com
END:VEVENT
BEGIN:VEVENT
DTSTART;TZID=America/New_York:20250817T190000
DTEND;TZID=America/New_York:20250817T203000
DTSTAMP:20260425T120507
CREATED:20250514T211549Z
LAST-MODIFIED:20250615T172135Z
UID:270-1755457200-1755462600@www.annaevanshainesport.com
SUMMARY:Concert in the Park - The Loose Bandits Band
DESCRIPTION:Join us for our 4th 2025 Summer Concert in the park!!At the Pavilion! 1401 Marne Highway Hainesport NJ 08036Refreshments will be for sale at the Concession Stand.
URL:https://www.annaevanshainesport.com/event/concert-in-the-park-4/
LOCATION:Hainesport Township Municipal Complex\, 1401 Marne Highway\, Hainesport\, NJ\, 08036\, United States
ORGANIZER;CN="Hainesport Township":MAILTO:aevans@hainesporttownship.com
END:VEVENT
BEGIN:VEVENT
DTSTART;TZID=America/New_York:20250814T120000
DTEND;TZID=America/New_York:20250814T140000
DTSTAMP:20260425T120507
CREATED:20250514T211507Z
LAST-MODIFIED:20250514T211507Z
UID:268-1755172800-1755180000@www.annaevanshainesport.com
SUMMARY:Senior Citizens Club Meeting
DESCRIPTION:
URL:https://www.annaevanshainesport.com/event/senior-citizens-club-meeting-6/
LOCATION:Kenneth E. Street Center\, 100 Broad St\, Hainesport\, NJ\, 08036\, United States
ORGANIZER;CN="Hainesport Township":MAILTO:aevans@hainesporttownship.com
END:VEVENT
BEGIN:VEVENT
DTSTART;TZID=America/New_York:20250813T113000
DTEND;TZID=America/New_York:20250813T140000
DTSTAMP:20260425T120507
CREATED:20250916T193521Z
LAST-MODIFIED:20250916T193521Z
UID:389-1755084600-1755093600@www.annaevanshainesport.com
SUMMARY:Veterans Lunch
DESCRIPTION:
URL:https://www.annaevanshainesport.com/event/veterans-lunch/
LOCATION:Kenneth E. Street Center\, 100 Broad St\, Hainesport\, NJ\, 08036\, United States
ATTACH;FMTTYPE=image/jpeg:https://www.annaevanshainesport.com/wp-content/uploads/2025/09/Veterans-Lunch.jpg
END:VEVENT
BEGIN:VEVENT
DTSTART;TZID=America/Halifax:20250812T183000
DTEND;TZID=America/Halifax:20250812T200000
DTSTAMP:20260425T120507
CREATED:20250515T011335Z
LAST-MODIFIED:20250515T011335Z
UID:266-1755023400-1755028800@www.annaevanshainesport.com
SUMMARY:Township Meeting
DESCRIPTION:
URL:https://www.annaevanshainesport.com/event/township-meeting-4/
LOCATION:Hainesport Township Municipal Complex\, 1401 Marne Highway\, Hainesport\, NJ\, 08036\, United States
ORGANIZER;CN="Hainesport Township":MAILTO:aevans@hainesporttownship.com
END:VEVENT
BEGIN:VEVENT
DTSTART;TZID=UTC:20250806T183000
DTEND;TZID=UTC:20250806T203000
DTSTAMP:20260425T120507
CREATED:20250515T011029Z
LAST-MODIFIED:20250515T011029Z
UID:262-1754505000-1754512200@www.annaevanshainesport.com
SUMMARY:Joint Land Use Meeting
DESCRIPTION:
URL:https://www.annaevanshainesport.com/event/joint-land-use-meeting-3/
LOCATION:Hainesport Township Municipal Complex\, 1401 Marne Highway\, Hainesport\, NJ\, 08036\, United States
ORGANIZER;CN="Hainesport Township":MAILTO:aevans@hainesporttownship.com
END:VEVENT
BEGIN:VEVENT
DTSTART;TZID=America/Halifax:20250803T190000
DTEND;TZID=America/Halifax:20250803T203000
DTSTAMP:20260425T120507
CREATED:20250515T011234Z
LAST-MODIFIED:20250615T172013Z
UID:264-1754247600-1754253000@www.annaevanshainesport.com
SUMMARY:Concert in the Park - Tookany Creek Bluegrass Band
DESCRIPTION:Join us for our 3rd 2025 Summer Concert in the park!!At the Pavilion! 1401 Marne Highway Hainesport NJ 08036Refreshments will be for sale at the Concession Stand.
URL:https://www.annaevanshainesport.com/event/concert-in-the-park-3/
LOCATION:Hainesport Township Municipal Complex\, 1401 Marne Highway\, Hainesport\, NJ\, 08036\, United States
ORGANIZER;CN="Hainesport Township":MAILTO:aevans@hainesporttownship.com
END:VEVENT
BEGIN:VEVENT
DTSTART;TZID=America/New_York:20250729T093000
DTEND;TZID=America/New_York:20250729T160000
DTSTAMP:20260425T120507
CREATED:20250515T123324Z
LAST-MODIFIED:20250515T123445Z
UID:328-1753781400-1753804800@www.annaevanshainesport.com
SUMMARY:Bingo Lunch Cruise
DESCRIPTION:Come aboard City Cruises and enjoy a lunch buffet\, plus amazing scenic Delaware River Views. Dance to the DJ’s songs from decades past. Play bingo with great prizes (no $).
URL:https://www.annaevanshainesport.com/event/bingo-lunch-cruise/
LOCATION:Delaware River
ATTACH;FMTTYPE=image/jpeg:https://www.annaevanshainesport.com/wp-content/uploads/2025/05/Bingo.jpeg
ORGANIZER;CN="Hainesport Township":MAILTO:aevans@hainesporttownship.com
END:VEVENT
BEGIN:VEVENT
DTSTART;TZID=UTC:20250725T113000
DTEND;TZID=UTC:20250725T123000
DTSTAMP:20260425T120507
CREATED:20250515T002632Z
LAST-MODIFIED:20250515T020823Z
UID:248-1753443000-1753446600@www.annaevanshainesport.com
SUMMARY:Yoga
DESCRIPTION:Fridays from June 13th to July 25th (not July 4th) \nSupply your own mat and “grippy” socks. \nSigned waiver due at time of payment (CASH or CHECK). $30 for 6 classes. \n  \n 
URL:https://www.annaevanshainesport.com/event/yoga-2-2-2-2-2/
LOCATION:Kenneth E. Street Center\, 100 Broad St\, Hainesport\, NJ\, 08036\, United States
ATTACH;FMTTYPE=image/jpeg:https://www.annaevanshainesport.com/wp-content/uploads/2025/05/Yoga.jpg
END:VEVENT
BEGIN:VEVENT
DTSTART;TZID=America/Halifax:20250724T120000
DTEND;TZID=America/Halifax:20250724T140000
DTSTAMP:20260425T120507
CREATED:20250515T003807Z
LAST-MODIFIED:20250515T003807Z
UID:260-1753358400-1753365600@www.annaevanshainesport.com
SUMMARY:Senior Citizens Club Meeting
DESCRIPTION:
URL:https://www.annaevanshainesport.com/event/senior-citizens-club-meeting-5/
LOCATION:Kenneth E. Street Center\, 100 Broad St\, Hainesport\, NJ\, 08036\, United States
ORGANIZER;CN="Hainesport Township":MAILTO:aevans@hainesporttownship.com
END:VEVENT
BEGIN:VEVENT
DTSTART;TZID=America/Halifax:20250720T190000
DTEND;TZID=America/Halifax:20250720T203000
DTSTAMP:20260425T120507
CREATED:20250515T003232Z
LAST-MODIFIED:20250615T171804Z
UID:256-1753038000-1753043400@www.annaevanshainesport.com
SUMMARY:Concert in the Park - The Kootz Band
DESCRIPTION:Join us for our 2nd 2025 Summer Concert in the park!!At the Pavilion! 1401 Marne Highway Hainesport NJ 08036Refreshments will be for sale at the Concession Stand.
URL:https://www.annaevanshainesport.com/event/concert-in-the-park-2/
LOCATION:Hainesport Township Municipal Complex\, 1401 Marne Highway\, Hainesport\, NJ\, 08036\, United States
ATTACH;FMTTYPE=image/jpeg:https://www.annaevanshainesport.com/wp-content/uploads/2025/05/505826123_122141034038662436_7499268759078689299_n.jpg
ORGANIZER;CN="Hainesport Township":MAILTO:aevans@hainesporttownship.com
END:VEVENT
BEGIN:VEVENT
DTSTART;TZID=America/Halifax:20250718T113000
DTEND;TZID=America/Halifax:20250718T123000
DTSTAMP:20260425T120507
CREATED:20250515T002509Z
LAST-MODIFIED:20250515T020724Z
UID:246-1752838200-1752841800@www.annaevanshainesport.com
SUMMARY:Yoga
DESCRIPTION:Fridays from June 13th to July 25th (not July 4th) \nSupply your own mat and “grippy” socks. \nSigned waiver due at time of payment (CASH or CHECK). $30 for 6 classes. \n  \n 
URL:https://www.annaevanshainesport.com/event/yoga-2-2-2-2/
LOCATION:Kenneth E. Street Center\, 100 Broad St\, Hainesport\, NJ\, 08036\, United States
ATTACH;FMTTYPE=image/jpeg:https://www.annaevanshainesport.com/wp-content/uploads/2025/05/Yoga.jpg
END:VEVENT
BEGIN:VEVENT
DTSTART;TZID=America/Halifax:20250714T170000
DTEND;TZID=America/Halifax:20250714T200000
DTSTAMP:20260425T120507
CREATED:20250515T002005Z
LAST-MODIFIED:20250616T183535Z
UID:240-1752512400-1752523200@www.annaevanshainesport.com
SUMMARY:Tennis Program Begins
DESCRIPTION:Our annual Township Tennis Program for ages 5 and up has been led by Ike Johnson\, BCTA\, since 2000. Classes are on Mondays at the Hainesport Tennis Courts from 7/14 to 8/11.
URL:https://www.annaevanshainesport.com/event/tennis-program-begins/
LOCATION:Hainesport Township Municipal Complex\, 1401 Marne Highway\, Hainesport\, NJ\, 08036\, United States
ATTACH;FMTTYPE=image/jpeg:https://www.annaevanshainesport.com/wp-content/uploads/2025/05/summer-tennis-2025.jpeg
END:VEVENT
BEGIN:VEVENT
DTSTART;TZID=UTC:20250711T113000
DTEND;TZID=UTC:20250711T123000
DTSTAMP:20260425T120507
CREATED:20250515T002228Z
LAST-MODIFIED:20250515T020622Z
UID:244-1752233400-1752237000@www.annaevanshainesport.com
SUMMARY:Yoga
DESCRIPTION:Fridays from June 13th to July 25th (not July 4th) \nSupply your own mat and “grippy” socks. \nSigned waiver due at time of payment (CASH or CHECK). $30 for 6 classes. \n  \n 
URL:https://www.annaevanshainesport.com/event/yoga-2-2-2/
LOCATION:Kenneth E. Street Center\, 100 Broad St\, Hainesport\, NJ\, 08036\, United States
ATTACH;FMTTYPE=image/jpeg:https://www.annaevanshainesport.com/wp-content/uploads/2025/05/Yoga.jpg
END:VEVENT
BEGIN:VEVENT
DTSTART;TZID=UTC:20250710T183000
DTEND;TZID=UTC:20250710T203000
DTSTAMP:20260425T120507
CREATED:20250515T003009Z
LAST-MODIFIED:20250515T003009Z
UID:252-1752172200-1752179400@www.annaevanshainesport.com
SUMMARY:Joint Land Use Meeting
DESCRIPTION:
URL:https://www.annaevanshainesport.com/event/joint-land-use-meeting-2/
LOCATION:Hainesport Township Municipal Complex\, 1401 Marne Highway\, Hainesport\, NJ\, 08036\, United States
ORGANIZER;CN="Hainesport Township":MAILTO:aevans@hainesporttownship.com
END:VEVENT
BEGIN:VEVENT
DTSTART;TZID=America/Halifax:20250710T120000
DTEND;TZID=America/Halifax:20250710T140000
DTSTAMP:20260425T120507
CREATED:20250515T003713Z
LAST-MODIFIED:20250515T003713Z
UID:258-1752148800-1752156000@www.annaevanshainesport.com
SUMMARY:Senior Citizens Club Meeting
DESCRIPTION:
URL:https://www.annaevanshainesport.com/event/senior-citizens-club-meeting-4/
LOCATION:Kenneth E. Street Center\, 100 Broad St\, Hainesport\, NJ\, 08036\, United States
ORGANIZER;CN="Hainesport Township":MAILTO:aevans@hainesporttownship.com
END:VEVENT
END:VCALENDAR