BEGIN:VCALENDAR
VERSION:2.0
PRODID:-//Committeewoman Anna Evans - ECPv6.15.20//NONSGML v1.0//EN
CALSCALE:GREGORIAN
METHOD:PUBLISH
X-ORIGINAL-URL:https://www.annaevanshainesport.com
X-WR-CALDESC:Events for Committeewoman Anna Evans
REFRESH-INTERVAL;VALUE=DURATION:PT1H
X-Robots-Tag:noindex
X-PUBLISHED-TTL:PT1H
BEGIN:VTIMEZONE
TZID:America/New_York
BEGIN:DAYLIGHT
TZOFFSETFROM:-0500
TZOFFSETTO:-0400
TZNAME:EDT
DTSTART:20240310T070000
END:DAYLIGHT
BEGIN:STANDARD
TZOFFSETFROM:-0400
TZOFFSETTO:-0500
TZNAME:EST
DTSTART:20241103T060000
END:STANDARD
BEGIN:DAYLIGHT
TZOFFSETFROM:-0500
TZOFFSETTO:-0400
TZNAME:EDT
DTSTART:20250309T070000
END:DAYLIGHT
BEGIN:STANDARD
TZOFFSETFROM:-0400
TZOFFSETTO:-0500
TZNAME:EST
DTSTART:20251102T060000
END:STANDARD
BEGIN:DAYLIGHT
TZOFFSETFROM:-0500
TZOFFSETTO:-0400
TZNAME:EDT
DTSTART:20260308T070000
END:DAYLIGHT
BEGIN:STANDARD
TZOFFSETFROM:-0400
TZOFFSETTO:-0500
TZNAME:EST
DTSTART:20261101T060000
END:STANDARD
END:VTIMEZONE
BEGIN:VEVENT
DTSTART;TZID=America/New_York:20251101T100000
DTEND;TZID=America/New_York:20251101T120000
DTSTAMP:20260424T211141
CREATED:20251021T194926Z
LAST-MODIFIED:20251021T194926Z
UID:423-1761991200-1761998400@www.annaevanshainesport.com
SUMMARY:Free Rabies Clinic
DESCRIPTION:
URL:https://www.annaevanshainesport.com/event/free-rabies-clinic/
LOCATION:Public Works Garage\, 8 Oak Lane\, Hainesport\, NJ\, 08036\, United States
ATTACH;FMTTYPE=image/jpeg:https://www.annaevanshainesport.com/wp-content/uploads/2025/10/Rabies-Clinic.jpg
ORGANIZER;CN="Hainesport Township":MAILTO:aevans@hainesporttownship.com
END:VEVENT
END:VCALENDAR